BEGIN:VCALENDAR
VERSION:2.0
PRODID:-//eventon.com NONSGML v1.0//EN
CALSCALE:GREGORIAN
METHOD:PUBLISH
BEGIN:VEVENT
UID:69e88c3659705
DTSTAMP:20260422T085206Z
DTSTART:20210113T043000Z
DTEND:20210113T105000Z
LOCATION:
SUMMARY:Shoe Clinic Asics 5k Series - Race 1
DESCRIPTION:The Shoe Clinic Asics 5K Series consists of 5 weeks of events f
 or runners and walkers wanting to run or walk in a 5KM event. Hosted by the
  Port Hills Athletic Club in the beautiful Hagley Park\,  Christchurch\, 
  this event has something for everyone\,  including a 1.6KM run for ages 14
  and[..]\nhttps://athleticscanterbury.org.nz/events/shoe-clinic-asics-5k-se
 ries-race-1/
URL:https://athleticscanterbury.org.nz/events/shoe-clinic-asics-5k-series-race-1/
END:VEVENT
END:VCALENDAR