BEGIN:VCALENDAR
VERSION:2.0
PRODID:-//eventon.com NONSGML v1.0//EN
CALSCALE:GREGORIAN
METHOD:PUBLISH
BEGIN:VEVENT
UID:69e8e3120ec0d
DTSTAMP:20260422T150242Z
DTSTART:20210911T010000Z
DTEND:20210911T043000Z
LOCATION:Burwood Forest Park Landfill Avenue
SUMMARY:Canterbury Road Championships
DESCRIPTION:The Canterbury Road Championships will be on Saturday 11th of S
 eptember under Covid-19 Level 2 100 Gathering rules\,  but subject to the a
 pproval of the ChCh City Council. It is IMPORTANT that all athletes read th
 e following\,  especially the protocols Map Programme Covid-19 L2 100 Gathe
 ring Rules Protocols. Note that[..]\nhttps://athleticscanterbury.org.nz/eve
 nts/canterbury-road-championships/
URL:https://athleticscanterbury.org.nz/events/canterbury-road-championships/
END:VEVENT
END:VCALENDAR