BEGIN:VCALENDAR
VERSION:2.0
PRODID:-//eventon.com NONSGML v1.0//EN
CALSCALE:GREGORIAN
METHOD:PUBLISH
BEGIN:VEVENT
UID:69e7c02c0d2dd
DTSTAMP:20260421T182132Z
DTSTART:20220930T190000Z
DTEND:20221001T033000Z
LOCATION:Bottle Lake Forest Park Waitikiri Drive
SUMMARY:National Road Relay and A2B Relay
DESCRIPTION:More information to follow: Event Website &#8211; CLICK\nhttps:
 //athleticscanterbury.org.nz/events/national-road-relay-and-takahe-to-akaro
 a-relay/
URL:https://athleticscanterbury.org.nz/events/national-road-relay-and-takahe-to-akaroa-relay/
END:VEVENT
END:VCALENDAR