BEGIN:VCALENDAR
VERSION:2.0
PRODID:-//eventon.com NONSGML v1.0//EN
CALSCALE:GREGORIAN
METHOD:PUBLISH
BEGIN:VEVENT
UID:69e89a990ea93
DTSTAMP:20260422T095329Z
DTSTART:20211217T203000Z
DTEND:20211218T000000Z
LOCATION:Nga Puna Wai Augustine Drive\,  Halswell
SUMMARY:Senior Track & Field Interclub 9
DESCRIPTION:&nbsp;Senior Track &amp; Field Interclub NOTE:&nbsp; If you ent
 er\,  but have NOT registered with a club / CMA\,  you can still compete.&n
 bsp; However\,  you WILL be e-mailed and charged an additional fee. Grade 1
 3 athletes who enter\,  MUST be at Secondary School this year to compete. S
 chedule of Events:&nbsp;&nbsp; PROGRAMME[..]\nhttps://athleticscanterbury.o
 rg.nz/events/senior-track-field-interclub-9-2/
URL:https://athleticscanterbury.org.nz/events/senior-track-field-interclub-9-2/
END:VEVENT
END:VCALENDAR