BEGIN:VCALENDAR
VERSION:2.0
PRODID:-//eventon.com NONSGML v1.0//EN
CALSCALE:GREGORIAN
METHOD:PUBLISH
BEGIN:VEVENT
UID:69e8a065f2925
DTSTAMP:20260422T101813Z
DTSTART:20220602T004000Z
DTEND:20220602T024500Z
LOCATION:
SUMMARY:Canterbury Secondary School Cross Country Championships
DESCRIPTION:Canterbury Secondary School Cross Country Championships\nhttps:
 //athleticscanterbury.org.nz/events/canterbury-secondary-school-cross-count
 ry-championships-2/
URL:https://athleticscanterbury.org.nz/events/canterbury-secondary-school-cross-country-championships-2/
END:VEVENT
END:VCALENDAR