BEGIN:VCALENDAR
VERSION:2.0
PRODID:-//eventon.com NONSGML v1.0//EN
CALSCALE:GREGORIAN
METHOD:PUBLISH
BEGIN:VEVENT
UID:69e8a05180958
DTSTAMP:20260422T101753Z
DTSTART:20231020T200000Z
DTEND:20231021T003000Z
LOCATION:
SUMMARY:Canterbury Childrens Interclub
DESCRIPTION:For all information about what is on this week\,  click on the 
 link below &#8230; https://www.sporty.co.nz/cantychildrensathletics/\nhttps
 ://athleticscanterbury.org.nz/events/canterbury-childrens-interclub-9/
URL:https://athleticscanterbury.org.nz/events/canterbury-childrens-interclub-9/
END:VEVENT
END:VCALENDAR