BEGIN:VCALENDAR
VERSION:2.0
PRODID:-//eventon.com NONSGML v1.0//EN
CALSCALE:GREGORIAN
METHOD:PUBLISH
BEGIN:VEVENT
UID:69e8a0c7a191b
DTSTAMP:20260422T101951Z
DTSTART:20240706T130000Z
DTEND:20240706T153000Z
LOCATION:Hansen Park\,  Ōpāwa
SUMMARY:Port Hills Under 18 Cross Country Races
DESCRIPTION:Under 18 Cross Country event hosted by the Port Hills Club at H
 ansen Park Please click on the link for all race information. U18 CROSS COU
 NTRY RACES 2024 hosted by Port Hills &nbsp;\nhttps://athleticscanterbury.or
 g.nz/events/port-hills-under-18-cross-country-races-4/
URL:https://athleticscanterbury.org.nz/events/port-hills-under-18-cross-country-races-4/
END:VEVENT
END:VCALENDAR