BEGIN:VCALENDAR
VERSION:2.0
PRODID:-//eventon.com NONSGML v1.0//EN
CALSCALE:GREGORIAN
METHOD:PUBLISH
BEGIN:VEVENT
UID:69e753b0b57eb
DTSTAMP:20260421T103840Z
DTSTART:20250118T000000Z
DTEND:20250118T040000Z
LOCATION:
SUMMARY:Sola Power Throwers Meet
DESCRIPTION:For more information. check out their website &#8230;. https://
 athletics.org.nz/event/2025-sola-powers-throwers-meet/\nhttps://athleticsca
 nterbury.org.nz/events/sola-power-throwers-meet-2/
URL:https://athleticscanterbury.org.nz/events/sola-power-throwers-meet-2/
END:VEVENT
END:VCALENDAR