BEGIN:VCALENDAR
VERSION:2.0
PRODID:-//eventon.com NONSGML v1.0//EN
CALSCALE:GREGORIAN
METHOD:PUBLISH
BEGIN:VEVENT
UID:69e905cb82627
DTSTAMP:20260422T173051Z
DTSTART:20250109T193000Z
DTEND:20250112T040000Z
LOCATION:
SUMMARY:North Island Colgate Games
DESCRIPTION:Check out their website for more information &#8230; https://at
 hletics.org.nz/event/2025-north-island-colgate-games/\nhttps://athleticscan
 terbury.org.nz/events/north-island-colgate-games/
URL:https://athleticscanterbury.org.nz/events/north-island-colgate-games/
END:VEVENT
END:VCALENDAR