BEGIN:VCALENDAR
VERSION:2.0
PRODID:-//eventon.com NONSGML v1.0//EN
CALSCALE:GREGORIAN
METHOD:PUBLISH
BEGIN:VEVENT
UID:69e63f517878c
DTSTAMP:20260420T145929Z
DTSTART:20250802T080000Z
DTEND:20250802T193000Z
LOCATION:Hagley Park 14 Riccarton Avenue
SUMMARY:National Cross Country Championship
DESCRIPTION:The NZ Cross Country &amp; Relay Championships will descend on 
 Christchurch’s North Hagley Park. We’re bringing the racing to the fans
  with the never-before-raced course\,  incorporating sections of the Hagley
  Golf Course\,  designed so fans can catch every step of the head-to-head r
 acing right in the heart of Garden City.[..]\nhttps://athleticscanterbury.o
 rg.nz/events/national-cross-country-championship/
URL:https://athleticscanterbury.org.nz/events/national-cross-country-championship/
END:VEVENT
END:VCALENDAR