BEGIN:VCALENDAR
VERSION:2.0
PRODID:-//eventon.com NONSGML v1.0//EN
CALSCALE:GREGORIAN
METHOD:PUBLISH
BEGIN:VEVENT
UID:69e4c10edae35
DTSTAMP:20260419T114830Z
DTSTART:20260304T090000Z
DTEND:20260304T140000Z
LOCATION:Ngā Puna Wai Sports Hub Augustine Drive
SUMMARY:Track Closed - Special Olympics
DESCRIPTION:Track Closed - Special Olympics\nhttps://athleticscanterbury.or
 g.nz/events/track-closed-special-olympics/
URL:https://athleticscanterbury.org.nz/events/track-closed-special-olympics/
END:VEVENT
END:VCALENDAR