BEGIN:VCALENDAR
VERSION:2.0
PRODID:-//eventon.com NONSGML v1.0//EN
CALSCALE:GREGORIAN
METHOD:PUBLISH
BEGIN:VEVENT
UID:69e73c5971fa1
DTSTAMP:20260421T085905Z
DTSTART:20260313T080000Z
DTEND:20260313T150000Z
LOCATION:NPW Sports Hub Building Augustine Drive
SUMMARY:School Booking - Track Closed
DESCRIPTION:School Booking - Track Closed\nhttps://athleticscanterbury.org.
 nz/events/school-booking-track-closed-3/
URL:https://athleticscanterbury.org.nz/events/school-booking-track-closed-3/
END:VEVENT
END:VCALENDAR