BEGIN:VCALENDAR
VERSION:2.0
PRODID:-//eventon.com NONSGML v1.0//EN
CALSCALE:GREGORIAN
METHOD:PUBLISH
BEGIN:VEVENT
UID:69e59ae69f617
DTSTAMP:20260420T031758Z
DTSTART:20260527T184500Z
DTEND:20260527T203000Z
LOCATION:Gary Cockram Hyundai Corner St Asaph Street and Durham Street South
SUMMARY:Athletics Canterbury Awards Night
DESCRIPTION:Being held at Gary Cockram Hyundai. Come along and celebrate an
 other fantastic year in the sport. Doors open at 6:45pm Purchase tickets us
 e this link  If you want to put forward a nomination please click here\nht
 tps://athleticscanterbury.org.nz/events/athletics-canterbury-awards-night-2
 /
URL:https://athleticscanterbury.org.nz/events/athletics-canterbury-awards-night-2/
END:VEVENT
END:VCALENDAR